BEGIN:VCALENDAR
VERSION:2.0
PRODID:-//Tukios.com/
BEGIN:VEVENT
UID:75c9d64a-de4d-47c3-aae6-7a8dec39d26e@www.sandersfuneralhomes.com
DTSTAMP:20260424T171003Z
DTSTART:20260429T140000Z
DTEND:20260429T150000Z
SUMMARY:Visitation
DESCRIPTION:
URL:https://www.sandersfuneralhomes.com/obituaries/janyth-akers
LOCATION:Kreighbaum-Sanders Funeral Home 4041 Cleveland Avenue Southwest  
	Canton OH 44707
GEO:40.7503015;-81.3747795
END:VEVENT
END:VCALENDAR