BEGIN:VCALENDAR
VERSION:2.0
PRODID:-//Tukios.com/
BEGIN:VEVENT
UID:7b3190fc-2627-47f6-bceb-a42280802218@www.sandersfuneralhomes.com
DTSTAMP:20260424T171040Z
DTSTART:20260429T150000Z
DTEND:20260429T160000Z
SUMMARY:Funeral Service
DESCRIPTION:
URL:https://www.sandersfuneralhomes.com/obituaries/janyth-akers
LOCATION:Kreighbaum-Sanders Funeral Home 4041 Cleveland Avenue Southwest  
	Canton OH 44707
GEO:40.7503015;-81.3747795
END:VEVENT
END:VCALENDAR