BEGIN:VCALENDAR
VERSION:2.0
PRODID:-//Tukios.com/
BEGIN:VEVENT
UID:8cb6e0ce-3d65-451c-b8c5-41a4f78f3e7f@www.sandersfuneralhomes.com
DTSTAMP:20260421T050332Z
DTSTART:20260424T140000Z
DTEND:20260424T160000Z
SUMMARY:Visitation
DESCRIPTION:
URL:https://www.sandersfuneralhomes.com/obituaries/jinkie-fabynick
LOCATION:Fellowship Baptist Church  3741 Fohl Street Southwest  Canton OH 
	44706
GEO:40.7298322;-81.4221334
END:VEVENT
END:VCALENDAR