BEGIN:VCALENDAR
VERSION:2.0
PRODID:-//Tukios.com/
BEGIN:VEVENT
UID:186e432f-6278-4254-8aa0-3c23e79d5266@www.sandersfuneralhomes.com
DTSTAMP:20260421T050332Z
DTSTART:20260424T160000Z
DTEND:20260424T170000Z
SUMMARY:Funeral Service
DESCRIPTION:
URL:https://www.sandersfuneralhomes.com/obituaries/jinkie-fabynick
LOCATION:Fellowship Baptist Church  3741 Fohl Street Southwest  Canton OH 
	44706
GEO:40.7298322;-81.4221334
END:VEVENT
END:VCALENDAR