BEGIN:VCALENDAR
VERSION:2.0
PRODID:-//Tukios.com/
BEGIN:VEVENT
UID:02e86bb1-9470-4159-8167-a7885f58522c@www.sandersfuneralhomes.com
DTSTAMP:20260420T235734Z
DTSTART:20260422T210000Z
DTEND:20260422T230000Z
SUMMARY:Visitation
DESCRIPTION:
URL:https://www.sandersfuneralhomes.com/obituaries/larry-seymoure
LOCATION:Kreighbaum-Sanders Funeral Home 4041 Cleveland Avenue Southwest  
	Canton OH 44707
GEO:40.7503015;-81.3747795
END:VEVENT
END:VCALENDAR