BEGIN:VCALENDAR
VERSION:2.0
PRODID:-//Tukios.com/
BEGIN:VEVENT
UID:44474419-e03b-454e-a892-904bcf3b41f1@www.sandersfuneralhomes.com
DTSTAMP:20260420T235729Z
DTSTART:20260423T150000Z
DTEND:20260423T160000Z
SUMMARY:Funeral Service
DESCRIPTION:
URL:https://www.sandersfuneralhomes.com/obituaries/larry-seymoure
LOCATION:Kreighbaum-Sanders Funeral Home 4041 Cleveland Avenue Southwest  
	Canton OH 44707
GEO:40.7503015;-81.3747795
END:VEVENT
END:VCALENDAR