BEGIN:VCALENDAR
VERSION:2.0
PRODID:-//Tukios.com/
BEGIN:VEVENT
UID:d7ce5161-7669-41bd-8b59-9087e7be5a84@www.sandersfuneralhomes.com
DTSTAMP:20260421T143519Z
DTSTART:20260508T150000Z
DTEND:20260508T160000Z
SUMMARY:Celebration of Life
DESCRIPTION:
URL:https://www.sandersfuneralhomes.com/obituaries/ronald-ferguson-sr
LOCATION:Sandy Valley Church of God  11281 Ohio 800  Magnolia OH 44643
GEO:40.6420454;-81.3546796
END:VEVENT
END:VCALENDAR